BEGIN:VCALENDAR
VERSION:2.0
METHOD:PUBLISH
PRODID:-//SND // Events//EN
X-WR-TIMEZONE:Europe/Stockholm




BEGIN:VEVENT
DTSTART:20191126T000000Z
DTEND:20191127T000000Z
DTSTAMP:20191002T122050Z
SUMMARY:Network Meeting in Lund
DESCRIPTION:This network meeting will take place in Lund as a lunch to lunch meeting, starting at 13:00 on Tuesday, 26 november, and ending at lunch on Wednesday 27 November. There will be plenary sessions on Tuesday afternoon and parallel sessions on Wednesday morning.\n\nOn Tuesday evening, delegates are invited to dinner at Skissernas Museum (Museum of Artistic Process and Public Art).\n\nMore information and registration to come soon!\n\nhttps://www.snd.se/en/aktuellt/arrangemang/2019/natverkstraff-i-lund
UID:96c7f814-9242-446a-b06a-3c17a2507eb6
STATUS:CONFIRMED
LAST-MODIFIED:20210331T112202Z
LOCATION:Lund
URL:https://www.snd.se/node/1623
END:VEVENT

END:VCALENDAR