BEGIN:VCALENDAR
VERSION:2.0
METHOD:PUBLISH
PRODID:-//SND // Events//EN
X-WR-TIMEZONE:Europe/Stockholm




BEGIN:VEVENT
DTSTART:20210830T110000Z
DTEND:20210830T130000Z
DTSTAMP:20210622T100125Z
SUMMARY:RDA webinar: How to make software FAIR
DESCRIPTION:How to make software FAIR is in certain aspects heavily overlapping with the FAIR data principles (https://snd.gu.se/en/describe-and-share-data/what-does-fair-data-mean) , in others unique definitions and practices are necessary. In this webinar we want to focus on the basic differences between data and software, outputs of the RDA FAIR4RS (FAIR for Research Software) working group (https://www.rd-alliance.org/groups/fair-research-software-fair4rs-wg)  and the experiences within the Nordic Region.\n\nThis webinar is organised by the Swedish  (https://www.rd-alliance.org/groups/rda-sweden) and Danish (https://www.rd-alliance.org/groups/rda-denmark)  RDA nodes (operated by SND and DeIC).\n\nPresenters:\n\n\n	Leyla Jael Garcia-Castro (FAIR4RS)\n	Carlos Martinez Ortiz (FAIR4RS)\n	Malin Sandström (INCF, SE)\n	Radovan Bast (CodeRefinery, NO)\n\n\nMore information and program can be found at: https://rda-software-webinar.readthedocs.io/en/latest/ (https://rda-software-webinar.readthedocs.io/en/latest/) \n\n\nWhen: 30 August 2021 at 13:00 - 15:00 CEST\n\nWhere: Online, connection details will be shared with registered attendees.\n\nRegister here. (https://deic.zoom.us/meeting/register/u5Ypcu-qqDIiHN3RCmgYC9BVUlMtX7bLyclP) \n\nhttps://www.snd.se/en/rda-webinar-how-make-software-fair
UID:af6d8d8c-9512-498f-bdbd-c9460bdc6458
STATUS:CONFIRMED
LAST-MODIFIED:20210622T101141Z
LOCATION:Distans
URL:https://www.snd.se/node/1898
END:VEVENT

END:VCALENDAR