BEGIN:VCALENDAR
VERSION:2.0
METHOD:PUBLISH
PRODID:-//SND // Events//EN
X-WR-TIMEZONE:Europe/Stockholm




BEGIN:VEVENT
DTSTART:20231107T120000Z
DTEND:20231108T120000Z
DTSTAMP:20230620T100411Z
SUMMARY:Network meeting in Uppsala
DESCRIPTION:\n\nSND welcomes you to a network meeting at Uppsala University!\n\n\nThe in-person network meeting will take place from 13:00 Tuesday, 7 November and concludes with lunch on Wednesday, 8 November.\n\nThere will also be a number of additional workshops offered on Tuesday morning (10:00–12:00) and Wednesday afternoon (13:00–15:30).\n\nIn the evening of 7 November, we invite you to a mingle and buffet dinner.\n\nMore information about the program and available workshops will be published in September when registration opens.\n\n \n\n\nWhen: 7 November 13:00–8 November 13:00 (note the information about additional workshops).\n\nWhere: Evolutionary Biology Centre (EBC) (https://www.ebc.uu.se/?languageId=1) , Uppsala Museum of Evolution.\n\nContact: Elisabeth Strandhagen\n\nRegistration closed.\n\n \n\nhttps://www.snd.se/en/network-meeting-uppsala
UID:5565c4a8-8bf2-4861-b477-7c2a9494a4fc
STATUS:CONFIRMED
LAST-MODIFIED:20231030T163204Z
LOCATION:Uppsala University
URL:https://www.snd.se/node/2045
END:VEVENT

END:VCALENDAR