BEGIN:VCALENDAR
VERSION:2.0
METHOD:PUBLISH
PRODID:-//SND // Events//EN
X-WR-TIMEZONE:Europe/Stockholm




BEGIN:VEVENT
DTSTART:20231027T120000Z
DTEND:20231027T133000Z
DTSTAMP:20230911T134815Z
SUMMARY:InfraVis and Huminfra – research infrastructures who visualize research, research tools, and research data
DESCRIPTION:InfraVis  (https://infravis.se/) and Huminfra  (https://www.huminfra.se/) are research infrastructures who, like SND, are consortiums with funding by the Swedish Research Council.\n\nThe infrastructures are two partners in the coming researchdata.se (https://researchdata.se/en) .\n\nIn this webinar, conducted in Swedish, they present how they can help researchers to visualize, find, and use data.\n\nMore information will come shortly.\n\n \n\n \n\n\n \n\nWhen: 27 October at 14:00–15:30\n\nWhere: Zoom webinar (https://gu-se.zoom.us/j/66759842276?pwd=ZmgwNmxYZUtDL282cmw1aVhGa1N0dz09)  (passcode 308034)\n\nContact: Elisabeth Strandhagen (mailto:elisabeth.strandhagen@snd.se) \n\nhttps://www.snd.se/en/infravis-and-huminfra-research-infrastructures-who-visualize-research-research-tools-and-research
UID:c13a27fe-a3b5-41d0-a55c-27de8b72f160
STATUS:CONFIRMED
LAST-MODIFIED:20250908T143853Z
LOCATION:
URL:https://www.snd.se/node/2052
END:VEVENT

END:VCALENDAR