BEGIN:VCALENDAR
VERSION:2.0
METHOD:PUBLISH
PRODID:-//SND // Events//EN
X-WR-TIMEZONE:Europe/Stockholm




BEGIN:VEVENT
DTSTART:20240927T080000Z
DTEND:20240927T100000Z
DTSTAMP:20240925T134052Z
SUMMARY:SND IT forum on Trusted Research Environments
DESCRIPTION:Welcome to SND´s IT forum on Trusted Research Environments. On this occasion we will have the opportunity to listen to speakers from University of Gothenburg, Lund University and Uppsala University who will talk about their solutions and/or work on secure environments for managing sensitive data.\n\nSND´s IT forum is an opportunity for IT experts connected to DAU organisations or other research data related activities at the Swedish universities and other researching authorities in the SND network to meet and discuss current problems and solutions.\n\nThis is an online on Zoom September 27 10.00-12.00.\n\n \n\n\nWhen: 27 september kl 10.00–12.00\n\nWhere: Webinar on Zoom\n\nContact: Johan Fihn Marberg johan.fihn.marberg@snd.se (mailto:johan.fihn.marberg@snd.se) \n\nhttps://www.snd.se/en/snd-it-forum-trusted-research-environments
UID:86f12bdf-a08f-433e-acc5-fa951e0275fc
STATUS:CONFIRMED
LAST-MODIFIED:20240925T134608Z
LOCATION:
URL:https://www.snd.se/node/2129
END:VEVENT

END:VCALENDAR