BEGIN:VCALENDAR
VERSION:2.0
METHOD:PUBLISH
PRODID:-//SND // Events//EN
X-WR-TIMEZONE:Europe/Stockholm




BEGIN:VEVENT
DTSTART:20251002T110000Z
DTEND:20251002T120000Z
DTSTAMP:20250929T091816Z
SUMMARY:Q&A on new procedures for handling datasets in DORIS and SND CARE
DESCRIPTION:SND has reviewed the procedures for handling datasets shared via DORIS and SND CARE. The purpose of these changes is to clarify the division of responsibilities for both “data in” and “data out”, and to ensure that our work is aligned with agreements and other relevant documentation. \n\nThese changes may involve some new ways of working. The SND Office therefore invites you to a Q&amp;A and discussion on how we can best support you during the transition period.\n\n\nWe are offering two Q&amp;A sessions (together with SND’s legal officers): \n\nSession 1 (Zoom link): 1 October, 10:00–11:00 \n\nSession 2 (Zoom link): 2 October, 13:00-14:00 \n\n \n\nhttps://www.snd.se/en/qa-new-procedures-handling-datasets-doris-and-snd-care-0
UID:46661b95-d3dc-46d1-9932-cef99a03a045
STATUS:CONFIRMED
LAST-MODIFIED:20250929T091853Z
LOCATION:
URL:https://www.snd.se/node/2239
END:VEVENT

END:VCALENDAR