BEGIN:VCALENDAR
VERSION:2.0
METHOD:PUBLISH
PRODID:-//SND // Events//EN
X-WR-TIMEZONE:Europe/Stockholm




BEGIN:VEVENT
DTSTART:20251119T120000Z
DTEND:20251120T111500Z
DTSTAMP:20251028T121315Z
SUMMARY:Juristnätverksmöte 2025
DESCRIPTION:\n\nVälkommen på juristnätverksmöte 19–20 november 2025\n\nProgram\n\nDag 1 (lokal: 3.040B Skäleberget)\n\n13.00–14.30: Ny praxis kring pseudonymisering och synen på personuppgifter? \n\n\n	\n	Övergripande om EDPB:s vägledning om pseudonymisering samt SND:s yttrande inom ramen för öppen konsultation\n	\n	\n	Genomgång av dom C-413/23 P, EDPS v SRB\n	\n	\n	Diskussion i mindre grupper (anteckningar i varje grupp)\n	\n\n\n14.30–15.00 Paus/Fika \n\n15.00–16.30 Diskussion webbtexter (dessa skickas ut i förväg) \n\n16.30: Avrundning\n\n\n	\n	samla tankar efter dagen, reflektioner, behöver vi följa upp något framöver?\n	\n\n\nSND bjuder på gemensam middag (vi återkommer med information om tid/restaurang) \n\nDag 2 (lokal: Lilla Änggården)\n\n08.30–10.00: Upphovsrätt och öppna data Kristina Sundström (LIU) \n\n10.00–10.30 Paus/Fika \n\n10.30–12.00 Transparenta formuleringar i samtycken som kan underlätta att dela data för vidareutnyttjande\n\n\n	\n	Frågeställning: vilka formuleringar kan användas i forskningspersonsinformation?\n	\n	\n	Grupparbete med mål att ta fram konkreta formuleringsförslag\n	\n\n\n12.00–12.15 Avrundning\n\nSND bjuder på enklare lunch att ta med.\n\n\nObservera att arrangemanget är ett slutet evenemang för jurister och dataskyddsombud i SND-nätverket.\n\nNär: 19 november kl 13.00 – 20 november kl 12:15 2025\n\nVar: Hälsovetenskapligt centrum, Guldhedsgatan 5A, Göteborg\n\nKontaktperson: Anna Wiklund Süpke (mailto:anna.supke@gu.se) \n\nProgram: Program för utskrift hittar du här\n\nÄr du jurist på en av SND-nätverkets medlemsorganisationer och inte fått inbjudan?\nKontakta Anna Wiklund Süpke på anna.supke@gu.se (mailto:anna.supke@gu.se) \n\nhttps://www.snd.se/sv/juristnatverksmote-2025
UID:964fbd57-1228-4920-9cc5-8a70486bfeb7
STATUS:CONFIRMED
LAST-MODIFIED:20251030T093926Z
LOCATION:HVC-huset, Guldhedsgatan 5A, Göteborg
URL:https://www.snd.se/node/2246
END:VEVENT

END:VCALENDAR