BEGIN:VCALENDAR
VERSION:2.0
METHOD:PUBLISH
PRODID:-//SND // Events//EN
X-WR-TIMEZONE:Europe/Stockholm




BEGIN:VEVENT
DTSTART:20191126T000000Z
DTEND:20191127T000000Z
DTSTAMP:20190726T074523Z
SUMMARY:Gott och blandat om forskningsdata
DESCRIPTION:Nätverksträff 26-27 november i Lund\n\n2019 närmar sig sitt slut och 2020 väntar runt hörnet.\nPå den här nätverksträffen tar vi avstamp i vad SND är och är tänkt att bli för att sedan titta på ett antal kommande aktiviteter. RDA Sweden presenteras med en blick mot hur den nationella noden kan utvecklas framgent. Inledande tankeutbyten och idédiskussioner står också på schemat: om hur vi kan stötta de forskare som under 2019 fått VR-medel och nu behöver skriva datahanteringsplaner; om hur arbetet med att certifiera fler Trusted Digital Repositories ska fortskrida; och om vilken väg (eller vilka vägar?) som är tänkbara vad gäller att uppfylla FAIR-principernas krav på licensiering av forskningsdata. Inte minst välkomnar vi jurister i den diskussionen och hoppas att vi på så sätt kan lägga grunden för ett nationellt juristnätverk kring forskningsdatafrågor.\n\nOch eftersom vi gästar Lunds universitet kommer vi naturligtvis att serveras en överblick av hur arbetet med forskningsdatastöd ser ut här.\n\nPå tisdagskvällen bjuder vi på middag på Skissernas museum.\n\nI samband med nätverksträffen anordnas även en träff om hantering av forskningsdata inom humaniora. Observera att denna kräver en separat anmälan och att träffen hålls på en annan plats än nätverksträffen\n \n\nProgram\n\n26 november\n\n\n	\n		\n			13.00-14.30\n			\n			Lunds universitet hälsar välkommen\n\n			Vad händer i Lund?\n\n			\n				DAU-etablering vid Lunds universitet: status och planer för framtiden (https://snd.gu.se/sites/default/files/2019-12/DAU_LU_pres_Holmqvist_Johnsson_SND_traff_26nov19.pdf) \n				Doktorandundervisning i forskningsdata: erfarenheter från olika fakulteter vid Lunds universitet (https://snd.gu.se/sites/default/files/2019-12/LU_doktorand_undervisn_forskndata_pres_26nov19.pdf) \n				DMP-projekt vid Lunds universitet (https://snd.gu.se/sites/default/files/2019-12/SND%20n%C3%A4tverkstr%C3%A4ff%20191126_BLastow.pdf) \n				Projekt om långtidslagring vid Lunds universitet: förstudie och planer\n				 \n			\n\n			Presentation av domänen befolkningsstudier/epidemiologi (https://snd.gu.se/sites/default/files/2019-11/SND%20n%C3%A4tverksdagar%20dom%C3%A4n%20epidemiologi.pdf) \n			\n		\n		\n			14.30-15.00\n			Fikapaus\n		\n		\n			15.00-17.00\n			\n			”Vad är SND?”: Fem (eller fler) goda skäl att tillgängliggöra forskningsdata via Svensk nationell datatjänst (https://snd.gu.se/sites/default/files/2019-12/Vad_%C3%A4r_SND_varf%C3%B6r_SND_Elisabeth_Strandhagen_Max_Petzold.pdf) \n			En upplysande punkt för att förtydliga vad SND är, vad vi gör och hur vi fungerar.\n\n			RDA Sweden (https://snd.gu.se/sites/default/files/2019-12/RDA_Sweden_Hellstrom_%40LU_2019-11-26_v2.pdf) \n			Bakgrund och möjliga framtida aktiviteter för den nationella RDA-noden.\n\n			Sedan senast och på gång inom SND (https://snd.gu.se/sites/default/files/2019-11/2019-11-26%20Sedan%20senast%20och%20p%C3%A5%20g%C3%A5ng.pdf) \n			\n		\n		\n			19.00\n			Middag på Skissernas museum\n		\n	\n\n\n \n\n27 november\n\n\n	\n		\n			8.30-10.00\n			\n			Inledning och parallella spår:\n\n			Spår 1A: Vad innebär det att vara certifierad? (https://snd.gu.se/sites/default/files/2019-11/Certifiering%202019-1127.pdf) \n			Hur kan ett lärosäte eller forskande myndighet bli certifierat som ett Trusted Digital Repository.\n\n			Spår 1B: Att stötta forskare som ska skriva datahanteringsplaner\n			Diskussion om möjliga sätt att vara stöd för forskare som fått VR-medel i årets utlysningar och nu ska skriva en DMP. Inkluderar presentation av SND:s underlag för en DMP-workshop\n			\n		\n		\n			10.00-10.30\n			Fikapaus\n		\n		\n			10.30-12.00\n			\n			Parallella spår och avslutning:\n\n			Spår 2A: Licenser på forskningsdata\n			En inledande diskussion för att inventera vilka olika behov som finns för att licensiera forskningsdata och vad man kan göra för att möta dessa.\n\n			Spår 2B: Roadmap för DAU: från start till full fart\n			Det har framkommit önskemål på att SND tar fram en guide eller roadmap som kan fungera som stöd för utvecklingen av DAU-verksamheter. Här välkomnar vi synpunkter på vad en sådan kan, bör och ska innehålla\n			\n		\n		\n			13.00-16.00\n			\n			Träff om hantering av forskningsdata inom humaniora.\n\n			Detta är ett brett fält av data, från mätdata och korpusar till etnografiska studier och enkäter. Ämnen att ta upp inkluderar frågor som forskarna brottas med och olika lösningar som finns, samt erfarenhetsutbyte och nätverksbyggande mellan DAU:er som jobbar mot humanioraforskare.\n			Lunch ingår för närverksdeltagare som stannar kvar för att delta i humanioradataträffen.\n\n			Träffen arrangeras av de som arbetar med forskningsdatastöd vid Humanistiska och teologiska fakulteterna vid Lunds universitet. Diskussionspunkter för träffen kommer lite längre fram.\n			\n		\n	\n\n\nSe programmet som PDF. (https://snd.gu.se/sites/default/files/2019-11/2019-11-2627_SND_natverkstraff_program.pdf) \n\n\nNätverksträffen är kostnadsfri, fika och middag ingår. Arrangemanget är ett slutet evenemang för SND-nätverket.\nÄr du en del av SND:s nätverk? Anmäl dig här (https://snd.gu.se/sv/aktuellt/arrangemang/2019/natverkstraff-26-2711/anmalan-natverkstraff-26-2711) . Ordinarie anmälan pga middagsbeställning senast 28 oktober men efteranmälan möjligt fram till 13 november.\n\nVid frågor kontakta Elisabeth Strandhagen (elisabeth.strandhagen@gu.se (mailto:elisabeth.strandhagen@gu.se) ).\n\nTid: 26 november (13.00-17.00 samt middag från 19.00), 27 november (08.30-12.00)\nPlats: Lundmarkssalen, Institutionen för astronomi och teoretisk fysik, Sölvegatan 27, Lund\n\nPlats för middag: Birgit Rausingsalen, Skissernas museum, Finngatan 2, Lund  Se på karta (https://www.google.com/maps?safe=active&sxsrf=ACYBGNQfyeZoDbW3EJWdloo-jBYhiEY9OA:1571395197085&q=Skissernas+Museum+Finngatan+2+,223+62+Lund&uact=5&um=1&ie=UTF-8&sa=X&ved=0ahUKEwjVtfulz6XlAhVHblAKHekvD58Q_AUIEygC) \n\n \n\nAnmälan och plats för träff om hantering av forskningsdata inom humaniora\n\nÄr du intresserad av att vara med, anmäl senast 13/11 via e-brev till: charlotte.hogberg@htbibl.lu.se (mailto:charlotte.hogberg@htbibl.lu.se) \n\nTid: 27 november (13.00-16.00)\nPlats: Språk- och litteraturcentrum, Helgonabacken 12, Lund. Lokal: SOL:A158 Hitta hit (https://goo.gl/maps/LbKy1p7ZfZYWknQP6) \n\nhttps://www.snd.se/sv/aktuellt/arrangemang/2019/natverkstraff-i-lund
UID:96c7f814-9242-446a-b06a-3c17a2507eb6
STATUS:CONFIRMED
LAST-MODIFIED:20210504T143029Z
LOCATION:Lund
URL:https://www.snd.se/node/1623
END:VEVENT

END:VCALENDAR