BEGIN:VCALENDAR
VERSION:2.0
METHOD:PUBLISH
PRODID:-//SND // Events//EN
X-WR-TIMEZONE:Europe/Stockholm




BEGIN:VEVENT
DTSTART:20201124T000000Z
DTEND:20201124T000000Z
DTSTAMP:20201005T140721Z
SUMMARY:PID-webbinarium: introduktion och fördjupning
DESCRIPTION:Den 24 november kommer SND att hålla ett webbinarium om persistenta identifierare (PID:ar) (https://snd.gu.se/sv/hantera-data/fardigstalla-tillgangliggora/PID)  och SND:s arbete med dessa. Persistenta identifierare är en viktig bit av forskningsekosystemet och ingår redan i den första FAIR-principen (https://snd.gu.se/sv/hantera-data/fardigstalla-tillgangliggora/FAIR-principerna) . Webbinariet består av ett introduktionspass och två kortare fördjupningspass. Vi avslutar webbinariet med en diskussionsstund.\n\nProgram:\n\n13.00 - 14.00 Introduktionspass (Jeremy Azzopardi, SND (https://snd.gu.se/sites/default/files/2020-11/2020-11-24_Jeremy%20Azzopardi%20Persistenta%20identifierare.pdf)  &amp; Helena Cousijn, DataCite (https://snd.gu.se/sites/default/files/2020-11/2020-11-24_Helena%20Cousijn%20DataCite%20presentation.pdf) )\n\n14.00 - 14.15 Resurser och projekt inom PID-världen (https://snd.gu.se/sites/default/files/2020-11/2020-11-24_Joakim%20Philipsson%20PIDant.pdf)  (Joakim Philipson)\n\n14.15 - 14:30 EOSC:s PID-policy och tjänstarkitektur (https://snd.gu.se/sites/default/files/2020-11/2020-11-24_Maggie%20Hellstr%C3%B6m%20EOSC_PID_policy_%26_architecture.pdf)  (Maggie Hellström)\n\n14.30 - 15.00: Frågor och diskussion\n\nHelena Cousijns presentation kommer att hållas på engelska, resten av webbinariet blir på svenska.\n\n\nNär: 24 November, kl. 13.00-15.00\n\nVar: Webbinariet äger rum virtuellt på Zoom. Länk till mötet finns i kalendern på Basecamp och skickas ut till SND-nätverket en vecka innan.\n\nAnmälan: Webbinariet riktar sig till medlemmar i SND-nätverket (https://snd.gu.se/sv/om-oss/snd-n%C3%A4tverket) .\n\nFör frågor kontakta Jeremy Azzopardi via jeremy.azzopardi@snd.gu.se (mailto:jeremy.azzopardi@snd.gu.se) \n\nhttps://www.snd.se/sv/pid-webbinarium-introduktion-och-fordjupning
UID:1ac1fb4d-7a65-49af-b8b1-b35bee3f870e
STATUS:CONFIRMED
LAST-MODIFIED:20210331T112202Z
LOCATION:Distans
URL:https://www.snd.se/node/1812
END:VEVENT

END:VCALENDAR