BEGIN:VCALENDAR
VERSION:2.0
METHOD:PUBLISH
PRODID:-//SND // Events//EN
X-WR-TIMEZONE:Europe/Stockholm




BEGIN:VEVENT
DTSTART:20201106T000000Z
DTEND:20201106T000000Z
DTSTAMP:20201009T124413Z
SUMMARY:Diskussion om SND:s ansökan till VR
DESCRIPTION:Under detta webbinarium får medlemmarna i SND-nätverket (https://snd.gu.se/sv/om-oss/snd-n%C3%A4tverket)  en andra möjlighet att bidra till diskussionen om hur ett framtida SND ska beskrivas i ansökan om finansiering som ska lämnas in till Vetenskapsrådet i februari.\nDenna eftermiddag ges möjlighet att ta ett större, övergripande, grepp om SND som nationell infrastruktur i framtiden. Det kommer att vara diskussioner i slumpvis uppdelade grupper, utan några specifika områden. Ta chansen: tänk stort, brett och holistiskt i samtal med andra!\n\nAlla tankar om hur SND kan utvecklas är välkomna!\nUnderlag för diskussionerna och länk till mötet finns på Basecamp och har skickats ut till SND-nätverket.\n\n \n\n\nNär: Fredag den 6 november, kl. 13.00-15.00\n\nVar: Webbinariet hålls på distans via Zoom (se ovan).\n\nFrågor? Kontakta Elisabeth Strandhagen (elisabeth.strandhagen@gu.se (mailto:elisabeth.strandhagen@gu.se) )\n\n \n\nhttps://www.snd.se/sv/diskussion-om-snds-ansokan-till-vr
UID:08302d3b-e3c3-440e-92a0-d4cf10351fbf
STATUS:CONFIRMED
LAST-MODIFIED:20210331T112202Z
LOCATION:Distans
URL:https://www.snd.se/node/1814
END:VEVENT

END:VCALENDAR