BEGIN:VCALENDAR
VERSION:2.0
METHOD:PUBLISH
PRODID:-//SND // Events//EN
X-WR-TIMEZONE:Europe/Stockholm




BEGIN:VEVENT
DTSTART:20201202T000000Z
DTEND:20201202T000000Z
DTSTAMP:20201019T142425Z
SUMMARY:Dosp-dropin – virtuell frågestund
DESCRIPTION:\n\nDomänspecialisterna på SND är en nationell resurs med uppgift att stötta forskare och andra som arbetar med forskningsdata vid lärosäten och forskande myndigheter. För tredje gången välkomnar SND forskare och andra som jobbar med forskningsdata på svenska lärosäten till en öppen frågestund med SND:s domänspecialister. Vi kommer att ta emot och besvara alla frågor om forskningsdatahantering och öppen tillgång till data. Ta gärna med egna aktuella frågor. Det finns möjlighet att diskutera enskilt med den domänspecialist som kan området bäst.\n\nPå vår kontaktsida hittar du information om alla våra domänspecialister.\n\n\nNär: Onsdag den 2 december, kl 13.00-14.00\n\nVar: Mötet sker på distans, ingen anmälan krävs. Gå med i mötet via denna Zoom-länk.\n\nVid frågor kontakta Gustav Nilsonne, gustav.nilsonne@ki.se (mailto:gustav.nilsonne@ki.se) \n\nhttps://www.snd.se/sv/dosp-dropin-virtuell-fragestund-0
UID:86a5de2d-565c-4faa-8f6c-57206f68c63c
STATUS:CONFIRMED
LAST-MODIFIED:20210331T112202Z
LOCATION:Distans
URL:https://www.snd.se/node/1817
END:VEVENT

END:VCALENDAR