BEGIN:VCALENDAR
VERSION:2.0
METHOD:PUBLISH
PRODID:-//SND // Events//EN
X-WR-TIMEZONE:Europe/Stockholm




BEGIN:VEVENT
DTSTART:20230321T080000Z
DTEND:20230323T153000Z
DTSTAMP:20220908T093114Z
SUMMARY:Research Data Alliance Plenary 20
DESCRIPTION:\n\nResearch Data Alliance, RDA, firar tioårsjubileum med sitt tjugonde Plenary meeting den 21–23 mars 2023 i Göteborg, där allt startade 2013.\n\nSvensk nationell datatjänst, Göteborgs universitet och Chalmers är värdar för den globala hybridkonferensen, som brukar samla beslutsfattare, forskare och andra som arbetar med forskningsdata inom olika discipliner. Huvudsyftet med konferensen är att deltagarna ska dela idéer och bästa praxis, och programmet kommer att innehålla breakout-sessioner, plenumsessioner, nätverkande och mycket mer.\n\nRegistrering (https://www.rd-alliance.org/rdas-20th-plenary-registration)  för deltagande i konferensen\n\nKonferensprogram (https://rd-alliance.org/rdas-20th-plenary-programme) \n\nMer information samt uppdateringar inför konferensen hittar du här (https://www.rd-alliance.org/plenaries/rda-20th-plenary-meeting-gothenburg-hybrid) .\n\nKontaktperson: Martin Brandhagen, e-post: martin.brandhagen@snd.gu.se.\n\nhttps://www.snd.se/sv/research-data-alliance-plenary-20
UID:2ea4e50d-89fc-4d3d-85b2-0496847513ad
STATUS:CONFIRMED
LAST-MODIFIED:20230202T104947Z
LOCATION:Lindholmen Conference Centre, Göteborg
URL:https://www.snd.se/node/1966
END:VEVENT

END:VCALENDAR