BEGIN:VCALENDAR
VERSION:2.0
METHOD:PUBLISH
PRODID:-//SND // Events//EN
X-WR-TIMEZONE:Europe/Stockholm




BEGIN:VEVENT
DTSTART:20231107T120000Z
DTEND:20231108T120000Z
DTSTAMP:20230620T100411Z
SUMMARY:Nätverksträff i Uppsala
DESCRIPTION:\nSND önskar välkommen till nätverksträff på Uppsala universitet!\n\nNätverksträffen pågår från klockan 13.00 tisdag 7 november och avslutas med lunch onsdag 8 november. \n\nPå tisdag förmiddag (kl. 10.00–12.00) och onsdag eftermiddag (kl. 13.00–15.30) erbjuds även ett antal workshoppar.\n\nPå kvällen 7 november bjuder vi på mingel och buffémiddag.\n\nHitta hit och hitta rätt\n\nNätverksträffens huvudprogram äger rum på Evolutionsbiologiskt centrum hus 15, Plan 1 ()  (Google maps (https://www.google.com/maps/place/Evolutionsbiologiskt+centrum+(EBC),+Norbyv%C3%A4gen+14,+752+36+Uppsala/@59.8504591,17.6248982,16.21z/data=!4m6!3m5!1s0x465fcbee84aa02cf:0x6d12a8ee7cc97759!8m2!3d59.8499496!4d17.6250474!16s%2Fg%2F11c3vv1qbc?entry=ttu) ) i Friessalen (länk till inomhuskarta (https://use.mazemap.com/#v=1&config=uu&zlevel=-1&center=17.625165,59.850041&zoom=18&campusid=49&sharepoitype=poi&sharepoi=387462) ).\n\nLokaler för workshoppar och fördjupningstillfälle för arkivarier listas i respektive beskrivning.\n\nPROGRAM\n\n\nTisdag 7 november\n\nWorkshop 10.00–12.00 (Valfri)\n\nSND för nytillkomna \n\nIntroduktionsfilmen från workshopen hittar du här (https://www.youtube.com/watch?v=GnDVf1SKqgc) . \nLokal: EBC Hus 15, plan 1, Lärosal 3 (40 platser) (länk till inomhuskarta (https://use.mazemap.com/#v=1&config=uu&zlevel=2&center=17.625043,59.849887&zoom=19.6&sharepoitype=poi&sharepoi=387395&campusid=49) )\nEn introduktion till SND och arbetet med öppen tillgång till forskningsdata. Vi introducerar verktygen DORIS och DAU-handboken och det ges möjlighet att utforska verktygen genom interaktiva övningar.\nWorkshopen leds av Elisabeth Strandhagen och Rufus Latham.\n\n \n\nProgram 13.00–17.00\n\nTisdag 7 november (Friessalen)\n\n13:00-13:20  Sedan senast och på gång inom SND (Elisabeth Strandhagen, Johan Fihn Marberg)\n\n13:20-13:40  Presentation av forskningsdataarbetet vid Uppsala universitet (Karl Michaëlsson)\n\n13:40-14:00  SND:s roll och möjligheter för samarbetsvinster med SciLifeLab och NBIS verksamhet (https://snd.gu.se/sites/default/files/2023-11/2023-11-07_SND_och_Scilifelab_JRung.pdf)  (Johan Rung)\n\n14.10-15.00  Presentation av Scilifelab och NBIS forskningsdataverksamhet\n\n\n	Presentation del 1 (https://snd.gu.se/sites/default/files/2023-11/2023-11-07_Forskningsdatahantering_Scilifelab_NBIS-part-1.pdf) \n	Presentation del 2 (https://snd.gu.se/sites/default/files/2023-11/2023-11-07_Forskningsdatahantering_Scilifelab_NBIS-part-2.pdf) \n	Presentation del 3 (https://snd.gu.se/sites/default/files/2023-11/2023-11-07_Forskningsdatahantering_Scilifelab_NBIS-part-3.pdf) \n\n\n(Elin Kronander, Katarina Öjefors Stark, Markus Englund)\n\n \n\n15.00-15.30 FIKA \n\n \n\n15.30- 16.20  Checklista för utlämnande av data med personuppgifter (Erica Schweder, Maria Skoglund)\n\n16.20-17.00  Handbok för hantering av individdata (Lars Eklund, Marcus Lundberg, Joel Carlsten Rosberg, André Jernung)\n\n17.00-17.20 Forskningsdatastöd vi Uppsala universitet (Barbro Bornsäter)\n\n17.30 - 18.30: MINGEL\n\n18.30: BUFFÉMIDDAG\n\n  \n\nOnsdag 8 november (Friessalen)\n\n8.30-10.00 Jurister i SND-nätverket svarar på frågor om juridiska perspektiv på hantering och delning av forskningsdata. (Maria Skoglund, Erica Schweder, Frida Ringholm, Elisabeth Mach, Henrik Leffler)\n\n10.00-10.30 FIKA \n\n10.30-12.00 FAIR över tid – arkivering i förhållande till publicering och delande av forskningsdata. (Margareta Ödmark, Margareta Åkesson, Sofia Särdqvist)\n\n12.00: Ta-med-lunch\n\n \n\nWorkshoppar 13:00 – ca 15:30 (Valfri, 25 platser per workshop)\n\nDigitala verktyg för riskbedömning och skyddsåtgärder i tabulära data med personuppgifter \nLokal: EBC Hus 15, Plan 1,  Lärosal 3 (40 platser) (länk till inomhuskarta (https://use.mazemap.com/#v=1&config=uu&zlevel=2&center=17.625043,59.849887&zoom=19.6&sharepoitype=poi&sharepoi=387395&campusid=49) )\nSyftet med workshopen är att introducera deltagarna till grundläggande begrepp och praktiska verktyg för statistisk röjandekontroll (statistical disclosure control) i tabulära data. Under workshopen belyses såväl möjligheter som begränsningar i befintliga verktyg och metoder för pseudonymisering, med introduktion av R-paketet sdcMicro (https://sdcappdocs.readthedocs.io/en/latest/introduction.html)  (inga förkunskaper i R krävs) för att illustrera hur statistiska metoder kan tillämpas för att bedöma risk för röjande och bakvägsidentifiering av individer i tabulära dataset. Deltagarna får en grundläggande genomgång av verktygets principer och funktioner och kommer därefter själva att få möjlighet att tillämpa sina kunskaper på ett syntetiskt dataset. Workshopen leds av Lars Eklund, Marcus Lundberg, Joel Carlsten Rosberg och André Jernung.\n\nHitta data – hur hjälpa forskare att hitta forskningsdata i ämnesspecifika repositorier? \nLokal: EBC, Hus 18, Plan 1, Lärosal 5 (40 platser) (länk till inomhuskarta (https://use.mazemap.com/#v=1&config=uu&zlevel=2&center=17.624472,59.849100&zoom=19.4&sharepoitype=poi&sharepoi=388224&campusid=49) )\nDenna workshop bjuder in till en diskussion kring olika sätt att söka data i repositorier, med frågor som "Hur gör vi idag?" och "Hur skiljer sig sökning av forskningsdata från en litteratursökning?", och så vidare. Workshopen innehåller också ämnesspecifik information från bl.a. life sciences-området och samhällsvetenskapen. Workshopen leds av Iris Alfredsson, Olivia Ekman och NBIS/SciLifeLab.\n\nPraktiskt stöd till forskare i att skriva en DMP. Erfarenheter från olika ämnesområden (https://snd.gu.se/sites/default/files/2023-11/Datahanteringsplan_workshop_2023-11-07.pdf)  \nLokal: EBC hus 18, Plan 1, Lärosal 4 (20 platser) (länk till inomhuskarta (https://use.mazemap.com/#v=1&config=uu&zlevel=2&center=17.624472,59.849100&zoom=19.4&sharepoitype=poi&sharepoi=388221&campusid=49) )\nI denna workshop utbyter vi erfarenheter av arbetet med datahanteringsplaner. Vi diskuterar bland annat vanliga frågor från forskare, typ av stöd som kan ges, hur DAU kan göra för att nå ut till forskarna, nyttan av DMP för universitet/högskolor etc. Tyngdpunkten kommer att ligga på vilka juridiska aspekter forskare behöver känna till, t.ex. kring känsliga data, och hur forskare kan eller bör ange information som rör lagringsproblematiken. Workshopen leds av Ulf Jakobsson och Eira Brandby (SND), och NBIS/SciLifeLab.\n\nFördjupningstillfälle\n\n13.00-15.30 Samling för arkivarier i SND-nätverket\n\nFAIR över tid - fördjupning\nLokal: EBC, Hus 15, Plan 0, Lärosal 1 (20 platser) (länk till inomhuskarta (https://use.mazemap.com/#v=1&config=uu&zlevel=1&center=17.625146,59.849958&zoom=19.4&sharepoitype=poi&sharepoi=387428&campusid=49) )\n\nVi bjuder in till möjligheten att fortsätta diskutera frågorna lite mer på djupet denna eftermiddag.\n\nTeman:\n\n\n	Att hålla ihop informationen i ett forskningsprojekt då information är spridd i flera system\n	Möjliga och omöjliga lagringsytor under informationens livscykel\n	Värdering och gallring av forskningsdata - värdefulla dataset\n\n\nVi samlas i rundabordssamtal för att nå lite längre tillsammans. Samlingen leds av dem som medverkat i presentationen på förmiddagen.\n\n \n\n\nNär: 7 november klockan 13.00 – 8 november klockan 13.00 (se information om workshops).\n\nVar: Evolutionsbiologiskt centrum (EBC) (https://maps.app.goo.gl/6t6PaZU9GPZLhnbJ9) , Uppsala universitet i Friessalen (länk till inomhuskarta (https://use.mazemap.com/#v=1&config=uu&zlevel=-1&center=17.625165,59.850041&zoom=18&campusid=49&sharepoitype=poi&sharepoi=387462) )\n\nAnmälan stängd.\n \n\nKontaktperson: Elisabeth Strandhagen (mailto:elisabeth.strandhagen@gu.se) \n\n \n\nVia länken till anmälan går det att ställa frågor till juristerna och arkivarierna.\nDet går också att ställa frågor till juristerna via juridik@snd.gu.se och till arkivarierna via margareta.odmark@su.se.\n\n \n\nhttps://www.snd.se/sv/natverkstraff-i-uppsala
UID:5565c4a8-8bf2-4861-b477-7c2a9494a4fc
STATUS:CONFIRMED
LAST-MODIFIED:20231113T095705Z
LOCATION:Uppsala universitet
URL:https://www.snd.se/node/2045
END:VEVENT

END:VCALENDAR