BEGIN:VCALENDAR
VERSION:2.0
METHOD:PUBLISH
PRODID:-//SND // Events//EN
X-WR-TIMEZONE:Europe/Stockholm




BEGIN:VEVENT
DTSTART:20251002T110000Z
DTEND:20251002T120000Z
DTSTAMP:20250923T114828Z
SUMMARY:Frågestund kring nya rutiner för hantering av dataset i DORIS och SND CARE
DESCRIPTION:SND har sett över rutinerna kring hantering av dataset som delas via DORIS och SND CARE. Syftet är att tydliggöra ansvarsfördelning kring både ”data in” och ”data ut”, samt arbeta i linje med avtal och annan relevant dokumentation. \n\nDessa förändringar kan innebära en del nya arbetssätt och vi på SND-kontoret bjuder därför in till en frågestund och dialog om hur vi kan stötta under övergångsperioden på bästa sätt.\n\n\nVi bjuder in till två frågetillfällen (tillsammans med SND:s jurister):  \n\nFrågetillfälle 1 (zoom-länk):: 1 oktober, kl. 10-11 \n\nFrågetillfälle 1 (zoom-länk) :2 oktober, kl, 13-14 \n\n \n\nhttps://www.snd.se/sv/fragestund-kring-nya-rutiner-hantering-av-dataset-i-doris-och-snd-care-0
UID:46661b95-d3dc-46d1-9932-cef99a03a045
STATUS:CONFIRMED
LAST-MODIFIED:20250923T132714Z
LOCATION:
URL:https://www.snd.se/node/2239
END:VEVENT

END:VCALENDAR